BEGIN:VCALENDAR
VERSION:2.0
PRODID:-//Jagár - ECPv5.1.2.1//NONSGML v1.0//EN
CALSCALE:GREGORIAN
METHOD:PUBLISH
X-WR-CALNAME:Jagár
X-ORIGINAL-URL:https://jagar.cz
X-WR-CALDESC:Akce na Jagár
BEGIN:VTIMEZONE
TZID:Europe/Paris
BEGIN:DAYLIGHT
TZOFFSETFROM:+0100
TZOFFSETTO:+0200
TZNAME:CEST
DTSTART:20260329T010000
END:DAYLIGHT
BEGIN:STANDARD
TZOFFSETFROM:+0200
TZOFFSETTO:+0100
TZNAME:CET
DTSTART:20261025T010000
END:STANDARD
END:VTIMEZONE
BEGIN:VEVENT
DTSTART;TZID=Europe/Paris:20260411T190000
DTEND;TZID=Europe/Paris:20260411T190000
DTSTAMP:20260421T144447
CREATED:20260116T201104Z
LAST-MODIFIED:20260116T201407Z
UID:8322-1775934000-1775934000@jagar.cz
SUMMARY:XVI. Folklorní (Ne)ples
DESCRIPTION: \nVSTUPENKY zakoupíte ZDE! \n
URL:https://jagar.cz/koncerty/xvi-folklorni-neples/
LOCATION:Dům PZKO v Bludovicích\, U Zborůvky 438\, Havířov\, 73601
CATEGORIES:Koncerty,Plesy
ATTACH;FMTTYPE=image/jpeg:https://jagar.cz/wp-content/uploads/2026/01/plakat_vol15_page-0001.jpg
ORGANIZER;CN="Jag%C3%A1r":MAILTO:info@jagar.cz
END:VEVENT
END:VCALENDAR