BEGIN:VCALENDAR
VERSION:2.0
PRODID:-//Jagár - ECPv5.1.2.1//NONSGML v1.0//EN
CALSCALE:GREGORIAN
METHOD:PUBLISH
X-WR-CALNAME:Jagár
X-ORIGINAL-URL:https://jagar.cz
X-WR-CALDESC:Akce na Jagár
BEGIN:VTIMEZONE
TZID:Europe/Paris
BEGIN:DAYLIGHT
TZOFFSETFROM:+0100
TZOFFSETTO:+0200
TZNAME:CEST
DTSTART:20260329T010000
END:DAYLIGHT
BEGIN:STANDARD
TZOFFSETFROM:+0200
TZOFFSETTO:+0100
TZNAME:CET
DTSTART:20261025T010000
END:STANDARD
END:VTIMEZONE
BEGIN:VEVENT
DTSTART;TZID=Europe/Paris:20260606T140000
DTEND;TZID=Europe/Paris:20260606T220000
DTSTAMP:20260421T125315
CREATED:20260413T121430Z
LAST-MODIFIED:20260413T121505Z
UID:8349-1780754400-1780783200@jagar.cz
SUMMARY:VII. Folklorní (Ne)fest
DESCRIPTION: \nVSTUPENKA ZDE \n
URL:https://jagar.cz/koncerty/vii-folklorni-nefest/
LOCATION:Havířov\, Pod letním kinem
CATEGORIES:Festival
ATTACH;FMTTYPE=image/jpeg:https://jagar.cz/wp-content/uploads/2026/04/A3_nefest2026_program_page-0001.jpg
ORGANIZER;CN="Jag%C3%A1r":MAILTO:info@jagar.cz
END:VEVENT
END:VCALENDAR