BEGIN:VCALENDAR
VERSION:2.0
PRODID:-//Jagár - ECPv5.1.2.1//NONSGML v1.0//EN
CALSCALE:GREGORIAN
METHOD:PUBLISH
X-WR-CALNAME:Jagár
X-ORIGINAL-URL:https://jagar.cz
X-WR-CALDESC:Akce na Jagár
BEGIN:VTIMEZONE
TZID:Europe/Paris
BEGIN:DAYLIGHT
TZOFFSETFROM:+0100
TZOFFSETTO:+0200
TZNAME:CEST
DTSTART:20230326T010000
END:DAYLIGHT
BEGIN:STANDARD
TZOFFSETFROM:+0200
TZOFFSETTO:+0100
TZNAME:CET
DTSTART:20231029T010000
END:STANDARD
END:VTIMEZONE
BEGIN:VEVENT
DTSTART;TZID=Europe/Paris:20230513T153000
DTEND;TZID=Europe/Paris:20230513T173000
DTSTAMP:20260421T163016
CREATED:20230502T063600Z
LAST-MODIFIED:20230502T063748Z
UID:8212-1683991800-1683999000@jagar.cz
SUMMARY:450 let obce Pazderna
DESCRIPTION: \n
URL:https://jagar.cz/koncerty/450-let-obce-pazderna/
LOCATION:Pazderna
CATEGORIES:Koncerty
ATTACH;FMTTYPE=image/jpeg:https://jagar.cz/wp-content/uploads/2023/05/obecni-slavnosti-pazderna_page-0001.jpg
END:VEVENT
END:VCALENDAR